View In:
ArcGIS JavaScript
ArcGIS Online Map Viewer
ArcGIS Earth
ArcMap
View Footprint In:
ArcGIS Online Map Viewer
Service Description: RasterData/Kimberley_DEM
Name: RasterData/Kimberley_DEM
Description:
Single Fused Map Cache: false
Extent:
XMin: 566345.9793436081
YMin: 5494536.433671263
XMax: 581588.9793436081
YMax: 5511250.933671263
Spatial Reference: 0
(0)
LatestVCSWkid(0)
Initial Extent:
XMin: 566345.9793436081
YMin: 5494536.433671263
XMax: 581588.9793436081
YMax: 5511250.933671263
Spatial Reference: 0
(0)
LatestVCSWkid(0)
Full Extent:
XMin: 566345.9793436081
YMin: 5494536.433671263
XMax: 581588.9793436081
YMax: 5511250.933671263
Spatial Reference: 0
(0)
LatestVCSWkid(0)
Pixel Size X: 0.75
Pixel Size Y: 0.75
Band Count: 1
Pixel Type: F32
RasterFunction Infos: {"rasterFunctionInfos": [{
"name": "None",
"description": "",
"help": ""
}]}
Mensuration Capabilities: Basic
Has Histograms: true
Has Colormap: false
Has Multi Dimensions : false
Rendering Rule:
Min Scale: 0
Max Scale: 0
Copyright Text:
Service Data Type: esriImageServiceDataTypeGeneric
Min Values: 870.16638183594
Max Values: 1949.8404541016
Mean Values: 1223.0096740019
Standard Deviation Values: 248.04152747766
Object ID Field:
Fields:
None
Default Mosaic Method: Center
Allowed Mosaic Methods:
SortField:
SortValue: null
Mosaic Operator: First
Default Compression Quality: 75
Default Resampling Method: Bilinear
Max Record Count: null
Max Image Height: 4100
Max Image Width: 15000
Max Download Image Count: null
Max Mosaic Image Count: null
Allow Raster Function: true
Allow Copy: true
Allow Analysis: true
Allow Compute TiePoints: false
Supports Statistics: false
Supports Advanced Queries: false
Use StandardizedQueries: true
Raster Type Infos:
Name: Raster Dataset
Description: Supports all ArcGIS Raster Datasets
Help:
Has Raster Attribute Table: false
Edit Fields Info: null
Ownership Based AccessControl For Rasters: null
Child Resources:
Info
Histograms
Statistics
Key Properties
Legend
Raster Function Infos
Supported Operations:
Export Image
Identify
Measure
Compute Histograms
Compute Statistics Histograms
Get Samples
Compute Class Statistics
Query Boundary
Compute Pixel Location
Compute Angles
Validate
Project